BEGIN:VCALENDAR
VERSION:2.0
PRODID:icalendar-ruby
CALSCALE:GREGORIAN
METHOD:PUBLISH
BEGIN:VEVENT
DTSTAMP:20260423T143928Z
UID:28-698262@gardengrovembc.org
DTSTART:20260614T220000Z
DTEND:20260618T010000Z
CLASS:PUBLIC
CREATED:20260415T185510
DESCRIPTION:Join us for Emerald Crossing\, an Irish Adventure\, as we journ
 ey through Psalm 23! Dinner will start at 5:00pm\, and opening ceremonies 
 at 5:45pm\, ages Pre-K to 6th Grade! \n\n\n\n
LAST-MODIFIED:20260415T185510
LOCATION:Garden Grove MBC
SUMMARY:Vacation Bible School 2026
URL;VALUE=URI:https://gardengrovembc.org/events/vacation-bible-school-2026/
 2026-06-14
ATTACH;FILENAME=Garden-Grove-Missionary-Baptist-Church-2026-Vacation-Bible-
 School-When-June-14-17-Time.PNG;FMTTYPE=image/png:https://dq5pwpg1q8ru0.cl
 oudfront.net/2026/04/15/23/54/51/bc2d225f-55c5-4172-83ae-1046b8d4b286/Gard
 en-Grove-Missionary-Baptist-Church-2026-Vacation-Bible-School-When-June-14
 -17-Time.PNG
END:VEVENT
END:VCALENDAR
