BEGIN:VCALENDAR
VERSION:2.0
PRODID:icalendar-ruby
CALSCALE:GREGORIAN
METHOD:PUBLISH
BEGIN:VEVENT
DTSTAMP:20260420T063741Z
UID:15-712231@gardengrovembc.org
DTSTART:20260913T230000Z
DTEND:20260914T004500Z
CLASS:PUBLIC
CREATED:20260419T223121
DESCRIPTION:
LAST-MODIFIED:20260419T223121
LOCATION:
SUMMARY:Sunday Evening Worship
URL;VALUE=URI:https://gardengrovembc.org/events/sunday-evening-worship--15/
 2026-09-13
ATTACH;FILENAME=DSC_0200-3.JPG;FMTTYPE=image/jpeg:https://dq5pwpg1q8ru0.clo
 udfront.net/2025/11/02/04/07/40/d7c5a230-c1a5-401e-b8db-7ea15ccab5cd/DSC_0
 200-3.JPG
END:VEVENT
END:VCALENDAR
