BEGIN:VCALENDAR
VERSION:2.0
PRODID:icalendar-ruby
CALSCALE:GREGORIAN
METHOD:PUBLISH
BEGIN:VEVENT
DTSTAMP:20260423T143928Z
UID:29-673666@gardengrovembc.org
DTSTART:20260503T154500Z
DTEND:20260504T170000Z
CLASS:PUBLIC
CREATED:20260408T190804
DESCRIPTION:If you are one of our 2026 graduating seniors we want to recogn
 ize you! Sign up at the welcome desk by 19th. Grab the information form at
  the welcome desk and return to Ms. Connie by April 26th or scan the QR co
 de. 
LAST-MODIFIED:20260408T190804
LOCATION:Garden Grove MBC
SUMMARY:Senior Sunday
URL;VALUE=URI:https://gardengrovembc.org/events/senior-sunday/2026-05-03
ATTACH;FILENAME=Senior-Sunday-Facebook-Post.PNG;FMTTYPE=image/png:https://d
 q5pwpg1q8ru0.cloudfront.net/2026/04/09/00/08/04/85bd0a5a-5ac8-4ea9-8e9c-a3
 b98673566c/Senior-Sunday-Facebook-Post.PNG
END:VEVENT
END:VCALENDAR
